BEGIN:VCALENDAR
BEGIN:VEVENT
DESCRIPTION:\nMore Information: https://tickets.carolinatheatre.org/websales/pages/TicketSearchCriteria.aspx?evtInfo=949854~05de892e-fe79-4e77-8f75-9f03e89f9235&\n\n
DTSTART:20250912T233000Z
DTEND:20250913T023000Z
LOCATION:Fletcher Hall, 309 West Morgan St, Durham, NC, 27701
SUMMARY:Stayin&#39; Alive - A Tribute to the Bee Gees
UID:949854
DTSTAMP:20260424T225047Z
END:VEVENT
END:VCALENDAR
